BEGIN:VCALENDAR
VERSION:2.0
PRODID:icalendar-ruby
CALSCALE:GREGORIAN
BEGIN:VEVENT
DTSTAMP:20260422T160037Z
UID:3f9a7e4d-af24-4479-b02b-b23ee2cb43ea
DTSTART:20221002T090000Z
DTEND:20221008T000000Z
SUMMARY:2-7 October 2022\, XFEL School for condensed matter\, dense plasma 
 physics and extreme conditions\, Aussois\, France
URL;VALUE=URI:https://www.laserlab-europe.eu/events-1/conferences/conferenc
 e-calendar/2-7-october-2022-xfel-school-for-condensed-matter-dense-plasma-
 physics-and-extreme-conditions-aussois-france
END:VEVENT
END:VCALENDAR
