BEGIN:VCALENDAR
VERSION:2.0
PRODID:icalendar-ruby
CALSCALE:GREGORIAN
BEGIN:VEVENT
DTSTAMP:20260421T175826Z
UID:b1716b6c-f095-4fae-9096-8afba5a9bc59
DTSTART:20221002T090000Z
DTEND:20221008T000000Z
SUMMARY:2-7 October 2022\, Symposium Advances in Methods for Bridging Spati
 otemporal Scales in Soft Matter\, Polymer and Network Materials\, at the M
 ultiscale Materials Modeling (MMM10)\, Baltimore\, USA
URL;VALUE=URI:https://www.laserlab-europe.eu/events-1/conferences/conferenc
 e-calendar/2-7-october-2022-symposium-advances-in-methods-for-bridging-spa
 tiotemporal-scales-in-soft-matter-polymer-and-network-materials-at-the-mul
 tiscale-materials-modeling-mmm10-baltimore-usa
END:VEVENT
END:VCALENDAR
