BEGIN:VCALENDAR
VERSION:2.0
PRODID:icalendar-ruby
CALSCALE:GREGORIAN
BEGIN:VEVENT
DTSTAMP:20260420T201342Z
UID:6bf7f997-36b3-4bf9-88a8-7399d678aad1
DTSTART:20230702T090000Z
DTEND:20230708T000000Z
SUMMARY:2-7 July 2023\, Summer School: "Search for new physics with low-ene
 rgy precision tests”\, Ameland\, The Netherlands
URL;VALUE=URI:https://www.laserlab-europe.eu/events-1/conferences/conferenc
 e-calendar/2-7-july-2023-summer-school-search-for-new-physics-with-low-ene
 rgy-precision-tests201d-ameland-the-netherlands
END:VEVENT
END:VCALENDAR
