BEGIN:VCALENDAR
VERSION:2.0
PRODID:icalendar-ruby
CALSCALE:GREGORIAN
BEGIN:VEVENT
DTSTAMP:20260422T172035Z
UID:0e66bc87-01ac-43e9-90e5-2d009b6204ac
DTSTART:20230702T090000Z
DTEND:20230708T000000Z
SUMMARY:2-7 July 2023\, International Conference on Phonon Scattering in Co
 ndensed Matter - Phonons 2023\, Paris\, France
URL;VALUE=URI:https://www.laserlab-europe.eu/events-1/conferences/conferenc
 e-calendar/international-conference-on-phonon-scattering-in-condensed-matt
 er-phonons-2023
END:VEVENT
END:VCALENDAR
