BEGIN:VCALENDAR
VERSION:2.0
PRODID:icalendar-ruby
CALSCALE:GREGORIAN
BEGIN:VEVENT
DTSTAMP:20260420T042738Z
UID:12c1fe05-5197-4362-bd3f-f763632baa7a
DTSTART:20240902T090000Z
DTEND:20240907T000000Z
SUMMARY:2-6 September 2024\, UMC 2024 - 6ᵗʰ Ultrafast Magnetism Conferen
 ce 2024\, Berlin\, Germany
URL;VALUE=URI:https://www.laserlab-europe.eu/events/conferences/conference-
 calendar/2-6-september-2024-umc-2024-6tk-ultrafast-magnetism-conference-20
 24-berlin-germany
END:VEVENT
END:VCALENDAR
