BEGIN:VCALENDAR
VERSION:2.0
PRODID:icalendar-ruby
CALSCALE:GREGORIAN
BEGIN:VEVENT
DTSTAMP:20260420T005054Z
UID:e74d0404-289b-4846-8ffd-4eb2c59d628d
DTSTART:20240902T090000Z
DTEND:20240907T000000Z
SUMMARY:2-6 September 2024\, International Conference on High Resolution Mo
 lecular Spectroscopy\, Bologna\, Italy
URL;VALUE=URI:https://www.laserlab-europe.eu/events/conferences/conference-
 calendar/2-6-september-2024-international-conference-on-high-resolution-mo
 lecular-spectroscopy-bologna-italy
END:VEVENT
END:VCALENDAR
