BEGIN:VCALENDAR
VERSION:2.0
PRODID:icalendar-ruby
CALSCALE:GREGORIAN
BEGIN:VEVENT
DTSTAMP:20260420T223748Z
UID:2e452e8b-dfad-416a-9011-58c26471441a
DTSTART:20240902T090000Z
DTEND:20240907T000000Z
SUMMARY:2-6 September 2024\, Cold and Controlled Molecules and Ions Confere
 nce (CCMI)\, Klosterneuburg near Vienna\, Austria
URL;VALUE=URI:https://www.laserlab-europe.eu/events-1/conferences/conferenc
 e-calendar/2-6-september-2024-cold-and-controlled-molecules-and-ions-confe
 rence-ccmi-klosterneuburg-near-vienna-austria
END:VEVENT
END:VCALENDAR
