BEGIN:VCALENDAR
VERSION:2.0
PRODID:icalendar-ruby
CALSCALE:GREGORIAN
BEGIN:VEVENT
DTSTAMP:20260420T050430Z
UID:4fd3f187-add5-4a03-aa39-a8ff1cf12584
DTSTART:20231002T090000Z
DTEND:20231006T000000Z
SUMMARY:2-5 October 2023\, International Workshop on Proton-Boron Fusion\, 
 Prague\, Czech Republic
URL;VALUE=URI:https://www.laserlab-europe.eu/events-1/conferences/conferenc
 e-calendar/2-5-october-2023-international-workshop-on-proton-boron-fusion-
 prague-czech-republic
END:VEVENT
END:VCALENDAR
