BEGIN:VCALENDAR
VERSION:2.0
PRODID:icalendar-ruby
CALSCALE:GREGORIAN
BEGIN:VEVENT
DTSTAMP:20260421T062212Z
UID:73ed5ccd-1a86-4c28-8117-01ef9c6e26e8
DTSTART:20220919T090000Z
DTEND:20220924T000000Z
SUMMARY:19-23 September 2022\, European Conference on Laser Interaction wit
 h Matter - ECLIM2022\, Frascati\, Italy
URL;VALUE=URI:https://www.laserlab-europe.eu/events-1/conferences/conferenc
 e-calendar/19-23-september-2022-european-conference-on-laser-interaction-w
 ith-matter-eclim2022-frascati-italy
END:VEVENT
END:VCALENDAR
