BEGIN:VCALENDAR
VERSION:2.0
PRODID:icalendar-ruby
CALSCALE:GREGORIAN
BEGIN:VEVENT
DTSTAMP:20260421T190727Z
UID:beb87503-34fa-4610-8ca5-92a00f453f0e
DTSTART:20230319T090000Z
DTEND:20230324T000000Z
SUMMARY:19-23 March 2023\, Special Symposia on Characterization of Material
 s Through High Resolution Coherent Diffraction Imaging at TMS 2023\, San D
 iego\, CA\, USA
URL;VALUE=URI:https://www.laserlab-europe.eu/events-1/conferences/conferenc
 e-calendar/19-23-march-2023-special-symposia-on-characterization-of-materi
 als-through-high-resolution-coherent-diffraction-imaging-at-tms-2023-san-d
 iego-ca-usa
END:VEVENT
END:VCALENDAR
