BEGIN:VCALENDAR
VERSION:2.0
PRODID:icalendar-ruby
CALSCALE:GREGORIAN
BEGIN:VEVENT
DTSTAMP:20260420T175531Z
UID:393f3d44-ae51-46e7-b1bb-a8e11e439ffb
DTSTART:20230619T090000Z
DTEND:20230624T000000Z
DESCRIPTION:Including: Mini-symposium Spectroscopy at Large-Scale Facilitie
 s: from Steady-State to Ultrafast
SUMMARY:19-23 June 2023\, International Symposium on Molecular Spectroscopy
 \, Champaign-Urbana\, Illinois
URL;VALUE=URI:https://www.laserlab-europe.eu/events-1/conferences/conferenc
 e-calendar/19-23-june-2023-international-symposium-on-molecular-spectrosco
 py-champaign-urbana-illinois
END:VEVENT
END:VCALENDAR
