BEGIN:VCALENDAR
VERSION:2.0
PRODID:icalendar-ruby
CALSCALE:GREGORIAN
BEGIN:VEVENT
DTSTAMP:20260421T013608Z
UID:42b1149e-d868-4ea2-999b-42e24c3b56d5
DTSTART:20230619T090000Z
DTEND:20230624T000000Z
SUMMARY:19-23 June 2023\, CECAM/Psi-k Conference: Bridging length scales wi
 th machine learning: from wavefunctions to thermodynamics\, Berlin\, Germa
 ny
URL;VALUE=URI:https://www.laserlab-europe.eu/events-1/conferences/conferenc
 e-calendar/19-23-june-2023-cecam-psi-k-conference-bridging-length-scales-w
 ith-machine-learning-from-wavefunctions-to-thermodynamics-berlin-germany
END:VEVENT
END:VCALENDAR
