BEGIN:VCALENDAR
VERSION:2.0
PRODID:icalendar-ruby
CALSCALE:GREGORIAN
BEGIN:VEVENT
DTSTAMP:20260423T005349Z
UID:a7e12347-c657-461d-834f-aa328c26a2f6
DTSTART:20230919T090000Z
DTEND:20230923T000000Z
SUMMARY:19-22 September 2023\, COST COSY Training School "Multiscale modeli
 ng of the properties of compounds: From isolated molecules to 3D materials
  relevant for industrial and astrophysical applications\, Belgrade\, Serbi
 a
URL;VALUE=URI:https://www.laserlab-europe.eu/events-1/conferences/conferenc
 e-calendar/19-22-september-2023-cost-cosy-training-school-multiscale-model
 ing-of-the-properties-of-compounds-from-isolated-molecules-to-3d-materials
 -relevant-for-industrial-and-astrophysical-applications-belgrade-serbia
END:VEVENT
END:VCALENDAR
