BEGIN:VCALENDAR
VERSION:2.0
PRODID:icalendar-ruby
CALSCALE:GREGORIAN
BEGIN:VEVENT
DTSTAMP:20260422T183942Z
UID:6c12c0b8-839d-4f6a-935d-d12d046b255f
DTSTART:20220719T090000Z
DTEND:20220723T000000Z
SUMMARY:19-22 July 2022\, META - International Conference on Metamaterials\
 , Photonic Crystals and Plasmonics\, Torremolinos\, Spain
URL;VALUE=URI:https://www.laserlab-europe.eu/events-1/conferences/conferenc
 e-calendar/19-22-july-2022-meta-international-conference-on-metamaterials-
 photonic-crystals-and-plasmonics-torremolinos-spain
END:VEVENT
END:VCALENDAR
