BEGIN:VCALENDAR
VERSION:2.0
PRODID:icalendar-ruby
CALSCALE:GREGORIAN
BEGIN:VEVENT
DTSTAMP:20260422T070840Z
UID:c2027c9a-acf8-4a29-8d10-a16ddab78426
DTSTART:20240219T090000Z
DTEND:20240223T000000Z
SUMMARY:19-22 February 2024\, Laboratory Astrophysics Workshop (ICE 2024)\,
  Kauai\, HI\, USA
URL;VALUE=URI:https://www.laserlab-europe.eu/events/conferences/conference-
 calendar/19-22-february-2024-laboratory-astrophysics-workshop-ice-2024-kau
 ai-hi-usa
END:VEVENT
END:VCALENDAR
