BEGIN:VCALENDAR
VERSION:2.0
PRODID:icalendar-ruby
CALSCALE:GREGORIAN
BEGIN:VEVENT
DTSTAMP:20260420T112615Z
UID:af4c25ae-ffdc-4e77-b1bc-d4a406ca500e
DTSTART:20240219T090000Z
DTEND:20240223T000000Z
LOCATION:650\, Kuhio Highway
SUMMARY:19-22 February 2024\, aboratory Astrophysics Workshop (ICE 2024)\, 
 Kauai\, HI\, USA
URL;VALUE=URI:https://www.laserlab-europe.eu/events-1/conferences/conferenc
 e-calendar/19-22-february-2024-aboratory-astrophysics-workshop-ice-2024-ka
 uai-hi-usa
END:VEVENT
END:VCALENDAR
