BEGIN:VCALENDAR
VERSION:2.0
PRODID:icalendar-ruby
CALSCALE:GREGORIAN
BEGIN:VEVENT
DTSTAMP:20260422T182222Z
UID:c403a368-6fae-4b4a-bb03-ccfbecbdbba1
DTSTART:20220919T090000Z
DTEND:20220922T000000Z
SUMMARY:19-21 September 2022\, 3rd Annual Workshop of the COST Action Attos
 econd Chemistry\, Prague\, Czech Republic
URL;VALUE=URI:https://www.laserlab-europe.eu/events-1/conferences/conferenc
 e-calendar/19-21-september-2022-3rd-annual-workshop-of-the-cost-action-att
 osecond-chemistry-prague-czech-republic
END:VEVENT
END:VCALENDAR
