BEGIN:VCALENDAR
VERSION:2.0
PRODID:icalendar-ruby
CALSCALE:GREGORIAN
BEGIN:VEVENT
DTSTAMP:20260421T184028Z
UID:7946fdc0-e9ed-489d-9212-cae9edf01398
DTSTART:20221019T090000Z
DTEND:20221022T000000Z
LOCATION:Lidická
SUMMARY:19-21 October 2022\, International Conference on Research Infrastru
 ctures (ICRI)\, Brno\, Czech Republic
URL;VALUE=URI:https://www.laserlab-europe.eu/events-1/conferences/conferenc
 e-calendar/19-21-october-2022-international-conference-on-research-infrast
 ructures-icri-brno-czech-republic
END:VEVENT
END:VCALENDAR
