BEGIN:VCALENDAR
VERSION:2.0
PRODID:icalendar-ruby
CALSCALE:GREGORIAN
BEGIN:VEVENT
DTSTAMP:20260420T144327Z
UID:0ba42d2b-e0dd-49d9-8560-72f3c7a2690b
DTSTART:20240219T090000Z
DTEND:20240222T000000Z
SUMMARY:19-21 February 2024\, Perspectives and challenges of future HPC ins
 tallations for atomistic and molecular simulations\, Berlin\, Germany
URL;VALUE=URI:https://www.laserlab-europe.eu/events/conferences/conference-
 calendar/19-21-february-2024-perspectives-and-challenges-of-future-hpc-ins
 tallations-for-atomistic-and-molecular-simulations-berlin-germany
END:VEVENT
END:VCALENDAR
