BEGIN:VCALENDAR
VERSION:2.0
PRODID:icalendar-ruby
CALSCALE:GREGORIAN
BEGIN:VEVENT
DTSTAMP:20260422T123102Z
UID:6e033fec-b44d-4eb9-aea2-bfbc456a606e
DTSTART:20221219T090000Z
DTEND:20221222T000000Z
SUMMARY:19-21 December 2022\, Workshop on Magnetic Fields in Laboratory Hig
 h-Energy Density Plasmas\, Palaiseau/Paris\, France
URL;VALUE=URI:https://www.laserlab-europe.eu/events-1/conferences/conferenc
 e-calendar/19-21-december-2022-workshop-on-magnetic-fields-in-laboratory-h
 igh-energy-density-plasmas-palaiseau-paris-france
END:VEVENT
END:VCALENDAR
