BEGIN:VCALENDAR
VERSION:2.0
PRODID:icalendar-ruby
CALSCALE:GREGORIAN
BEGIN:VEVENT
DTSTAMP:20260421T174900Z
UID:ec9d945d-12fb-48d3-8e1d-c8667a406011
DTSTART:20230419T090000Z
DTEND:20230422T000000Z
SUMMARY:19-21 April 2023\, European Conference on Integrated Optics\, Twent
 e\, The Netherlands
URL;VALUE=URI:https://www.laserlab-europe.eu/events-1/conferences/conferenc
 e-calendar/19-21-april-2023-european-conference-on-integrated-optics-twent
 e-the-netherlands
END:VEVENT
END:VCALENDAR
