BEGIN:VCALENDAR
VERSION:2.0
PRODID:icalendar-ruby
CALSCALE:GREGORIAN
BEGIN:VEVENT
DTSTAMP:20260423T010232Z
UID:0467deae-507a-4526-8a7a-51602c2e3a72
DTSTART:20220219T090000Z
DTEND:20220221T000000Z
SUMMARY:19-20 February 2022\, Ultrafast Phenomena in Cooperative Systems Go
 rdon Research Seminar\, Ventura\, California\, USA
URL;VALUE=URI:https://www.laserlab-europe.eu/events-1/conferences/conferenc
 e-calendar/19-20-february-2022-ultrafast-phenomena-in-cooperative-systems-
 gordon-research-seminar-ventura-california-usa
END:VEVENT
END:VCALENDAR
