BEGIN:VCALENDAR
VERSION:2.0
PRODID:icalendar-ruby
CALSCALE:GREGORIAN
BEGIN:VEVENT
DTSTAMP:20260421T003637Z
UID:578f329e-1992-4453-ab59-159c6d1f82eb
DTSTART:20221018T090000Z
DTEND:20221019T000000Z
DESCRIPTION:Satellite event to the ICRI 2022 conference
SUMMARY:18 October 2022\, 3rd Photon and Neutron (PaN) EOSC Symposium of Pa
 NOSC & ExPaNDS\, Brno\, Czech Republic and online
URL;VALUE=URI:https://www.laserlab-europe.eu/events-1/conferences/conferenc
 e-calendar/18-october-2022-3rd-photon-and-neutron-pan-eosc-symposium-of-pa
 nosc-expands-brno-czech-republic-and-online
END:VEVENT
END:VCALENDAR
