BEGIN:VCALENDAR
VERSION:2.0
PRODID:icalendar-ruby
CALSCALE:GREGORIAN
BEGIN:VEVENT
DTSTAMP:20260420T093309Z
UID:10988688-9f65-4723-9361-ba53a22bb239
DTSTART:20230618T090000Z
DTEND:20230625T000000Z
SUMMARY:18-24 June 2023\, Siegman International School on Lasers\, Dublin\,
  Ireland
URL;VALUE=URI:https://www.laserlab-europe.eu/events-1/conferences/conferenc
 e-calendar/18-24-june-2023-siegman-international-school-on-lasers-dublin-i
 reland
END:VEVENT
END:VCALENDAR
