BEGIN:VCALENDAR
VERSION:2.0
PRODID:icalendar-ruby
CALSCALE:GREGORIAN
BEGIN:VEVENT
DTSTAMP:20260420T011012Z
UID:82349413-fb1c-4e8d-a150-476172deff31
DTSTART:20220918T090000Z
DTEND:20220924T000000Z
SUMMARY:18-23 September 2022\, Ultrahigh Intensity Lasers conference - ICUI
 L 2022\, Jeju Island\, Korea
URL;VALUE=URI:https://www.laserlab-europe.eu/events-1/conferences/conferenc
 e-calendar/18-23-september-2022-icuil-2022-jeju-island-korea
END:VEVENT
END:VCALENDAR
