BEGIN:VCALENDAR
VERSION:2.0
PRODID:icalendar-ruby
CALSCALE:GREGORIAN
BEGIN:VEVENT
DTSTAMP:20260422T191604Z
UID:06d3dd3f-c3c5-4003-89b4-f99b4d052540
DTSTART:20230918T090000Z
DTEND:20230923T000000Z
SUMMARY:18-22 September 2023\, International Conference on Research and App
 lications of Plasmas - PLASMA\, Warsaw\, Poland
URL;VALUE=URI:https://www.laserlab-europe.eu/events-1/conferences/conferenc
 e-calendar/18-22-september-2023-international-conference-on-research-and-a
 pplications-of-plasmas-plasma-warsaw-poland
END:VEVENT
END:VCALENDAR
