BEGIN:VCALENDAR
VERSION:2.0
PRODID:icalendar-ruby
CALSCALE:GREGORIAN
BEGIN:VEVENT
DTSTAMP:20260422T201332Z
UID:eb817e59-8f40-4105-ba53-18f1f9611a36
DTSTART:20230618T090000Z
DTEND:20230623T000000Z
SUMMARY:18-22 June 2023\, Conference of the European Group on Atomic System
 s (EGAS 54)\, Strasbourg\, France
URL;VALUE=URI:https://www.laserlab-europe.eu/events-1/conferences/conferenc
 e-calendar/18-22-june-2023-conference-of-the-european-group-on-atomic-syst
 ems-egas-54-strasbourg-france
END:VEVENT
END:VCALENDAR
