BEGIN:VCALENDAR
VERSION:2.0
PRODID:icalendar-ruby
CALSCALE:GREGORIAN
BEGIN:VEVENT
DTSTAMP:20260420T132403Z
UID:36940333-5755-4bd5-b139-0636a7fc609e
DTSTART:20220718T090000Z
DTEND:20220723T000000Z
SUMMARY:18-22 July 2022\, International Laser Physics Workshop (LPHYS'22)\,
  Lyon\, France
URL;VALUE=URI:https://www.laserlab-europe.eu/events-1/conferences/conferenc
 e-calendar/18-22-july-2022-international-laser-physics-workshop-lphys22-ly
 on-france
END:VEVENT
END:VCALENDAR
