BEGIN:VCALENDAR
VERSION:2.0
PRODID:icalendar-ruby
CALSCALE:GREGORIAN
BEGIN:VEVENT
DTSTAMP:20260421T122944Z
UID:bfefc23a-d6f2-4dca-ae9a-41a6c94e4bf0
DTSTART:20220718T090000Z
DTEND:20220723T000000Z
SUMMARY:18-22 July 2022\, International Conference on Ultrafast Phenomena\,
  Montreal\, Quebec\, Canada
URL;VALUE=URI:https://www.laserlab-europe.eu/events-1/conferences/conferenc
 e-calendar/18-22-july-2022-international-conference-on-ultrafast-phenomena
 -montreal-quebec-canada
END:VEVENT
END:VCALENDAR
