BEGIN:VCALENDAR
VERSION:2.0
PRODID:icalendar-ruby
CALSCALE:GREGORIAN
BEGIN:VEVENT
DTSTAMP:20260422T182222Z
UID:56c1812f-5286-4b0c-8862-0ca503b0a4e8
DTSTART:20220718T090000Z
DTEND:20220723T000000Z
SUMMARY:18-22 July 2022\, Conference on Application of Optics and Photonics
  - AOP2022\, Guimarães\, Portugal
URL;VALUE=URI:https://www.laserlab-europe.eu/events-1/conferences/conferenc
 e-calendar/18-22-july-2022-conference-on-application-of-optics-and-photoni
 cs-aop2022-guimaraes-portugal
END:VEVENT
END:VCALENDAR
