BEGIN:VCALENDAR
VERSION:2.0
PRODID:icalendar-ruby
CALSCALE:GREGORIAN
BEGIN:VEVENT
DTSTAMP:20260421T194409Z
UID:cf80a9cc-4eb7-4e59-a2cc-2d2791a83f24
DTSTART:20240318T090000Z
DTEND:20240322T000000Z
SUMMARY:18-21 March 2024\, European Research and Innovation Week (R&I Week)
 \, Brussels\, Belgium
URL;VALUE=URI:https://www.laserlab-europe.eu/events/conferences/conference-
 calendar/18-21-march-2024-european-research-and-innovation-week-r-i-week-b
 russels-belgium
END:VEVENT
END:VCALENDAR
