BEGIN:VCALENDAR
VERSION:2.0
PRODID:icalendar-ruby
CALSCALE:GREGORIAN
BEGIN:VEVENT
DTSTAMP:20260421T044143Z
UID:d2ffeaf4-fbfc-4b07-8e64-0e73a9a523c7
DTSTART:20240618T090000Z
DTEND:20240622T000000Z
SUMMARY:18-21 June 2024\, Training School "Confined Molecular Systems in He
 lium Nanodroplets"\, Dolní Břežany\, Czech Republic
URL;VALUE=URI:https://www.laserlab-europe.eu/events/conferences/conference-
 calendar/18-21-june-2024-training-school-confined-molecular-systems-in-hel
 ium-nanodroplets-dolni-brezany-czech-republic
END:VEVENT
END:VCALENDAR
