BEGIN:VCALENDAR
VERSION:2.0
PRODID:icalendar-ruby
CALSCALE:GREGORIAN
BEGIN:VEVENT
DTSTAMP:20260421T172927Z
UID:2681047b-f7dd-44ca-a505-babe179f4c17
DTSTART:20230918T090000Z
DTEND:20230921T000000Z
SUMMARY:18-20 September 2023\, 4th Annual Workshop of the COST Action AttoC
 hem\, Szeged\, Hungary
URL;VALUE=URI:https://www.laserlab-europe.eu/events-1/conferences/conferenc
 e-calendar/18-20-september-2023-4th-annual-workshop-of-the-cost-action-att
 ochem-szeged-hungary
END:VEVENT
END:VCALENDAR
