BEGIN:VCALENDAR
VERSION:2.0
PRODID:icalendar-ruby
CALSCALE:GREGORIAN
BEGIN:VEVENT
DTSTAMP:20260420T080831Z
UID:a0b21c0f-32ef-4144-8c32-f3995cdb5923
DTSTART:20241118T090000Z
DTEND:20241121T000000Z
SUMMARY:18-20 November 2024\, Ultrafast Dynamic Imaging of Matter\, Hamburg
 \, Germany
URL;VALUE=URI:https://www.laserlab-europe.eu/events/conferences/conference-
 calendar/18-20-november-2024-ultrafast-dynamic-imaging-of-matter-hamburg-g
 ermany
END:VEVENT
END:VCALENDAR
