BEGIN:VCALENDAR
VERSION:2.0
PRODID:icalendar-ruby
CALSCALE:GREGORIAN
BEGIN:VEVENT
DTSTAMP:20260420T005101Z
UID:d18b285a-f0de-4371-b238-de544341b74b
DTSTART:20220518T090000Z
DTEND:20220520T000000Z
SUMMARY:18-19 May 2022\, PhotonicSweden career workshop for students\, Stoc
 kholm\, Sweden
URL;VALUE=URI:https://www.laserlab-europe.eu/events-1/conferences/conferenc
 e-calendar/18-19-may-2022-photonicsweden-career-workshop-for-students-stoc
 kholm-sweden
END:VEVENT
END:VCALENDAR
