BEGIN:VCALENDAR
VERSION:2.0
PRODID:icalendar-ruby
CALSCALE:GREGORIAN
BEGIN:VEVENT
DTSTAMP:20260421T173840Z
UID:fb735af2-4431-4396-ab53-262304a8c218
DTSTART:20231117T090000Z
DTEND:20231118T000000Z
DESCRIPTION:Speaker: Dr Mary Matthews (Imperial College London) - 3pm Londo
 n time
SUMMARY:17 November 2023 Atto Fridays: Attosecond processes in condensed ph
 ase: back to basics!\, online
URL;VALUE=URI:https://www.laserlab-europe.eu/events/conferences/conference-
 calendar/17-november-2023-atto-fridays-attosecond-processes-in-condensed-p
 hase-back-to-basics-online
END:VEVENT
END:VCALENDAR
