BEGIN:VCALENDAR
VERSION:2.0
PRODID:icalendar-ruby
CALSCALE:GREGORIAN
BEGIN:VEVENT
DTSTAMP:20260421T050915Z
UID:cb71d8fc-e198-4220-8614-f371dc2d7d1a
DTSTART:20220517T090000Z
DTEND:20220518T000000Z
DESCRIPTION:Prof. Francesca Calegari
SUMMARY:17 May 2022\, Your Scientific Career in Optics: Women in Science\, 
 online
URL;VALUE=URI:https://www.laserlab-europe.eu/events-1/conferences/conferenc
 e-calendar/17-may-2022-your-scientific-career-in-optics-women-in-science-o
 nline
END:VEVENT
END:VCALENDAR
