BEGIN:VCALENDAR
VERSION:2.0
PRODID:icalendar-ruby
CALSCALE:GREGORIAN
BEGIN:VEVENT
DTSTAMP:20260422T070900Z
UID:a44a5d0a-f039-4eb0-a8d3-8e160aece82f
DTSTART:20220617T090000Z
DTEND:20220618T000000Z
DESCRIPTION:Speaker: Professor Marzena Szymanska (University College London
 ). Time: 3pm London time.
SUMMARY:17 June 2022\, Atto Fridays: Novel Non-equilibrium Phenomena in Qua
 ntum Fluids of Light\, online
URL;VALUE=URI:https://www.laserlab-europe.eu/events-1/conferences/conferenc
 e-calendar/17-june-2022-atto-fridays-novel-non-equilibrium-phenomena-in-qu
 antum-fluids-of-light-online
END:VEVENT
END:VCALENDAR
