BEGIN:VCALENDAR
VERSION:2.0
PRODID:icalendar-ruby
CALSCALE:GREGORIAN
BEGIN:VEVENT
DTSTAMP:20260421T184124Z
UID:718d969a-fa10-42ba-8d77-dafa0e1d8130
DTSTART:20220717T090000Z
DTEND:20220723T000000Z
SUMMARY:17-22 July 2022\, International Conference on Atomic Physics - ICAP
  2022\, Toronto\, Canada
URL;VALUE=URI:https://www.laserlab-europe.eu/events-1/conferences/conferenc
 e-calendar/17-22-july-2022-international-conference-on-atomic-physics-icap
 -2022-toronto-canada-1
END:VEVENT
END:VCALENDAR
