BEGIN:VCALENDAR
VERSION:2.0
PRODID:icalendar-ruby
CALSCALE:GREGORIAN
BEGIN:VEVENT
DTSTAMP:20260420T102243Z
UID:aa8a9978-ad70-42bb-afb8-8c4068f7700d
DTSTART:20240617T090000Z
DTEND:20240622T000000Z
SUMMARY:17-21 June 2024\, International Symposium on Molecular Spectroscopy
 \, Urbana\, IL\, USA
URL;VALUE=URI:https://www.laserlab-europe.eu/events/conferences/conference-
 calendar/17-21-june-2024-international-symposium-on-molecular-spectroscopy
 -urbana-il-usa
END:VEVENT
END:VCALENDAR
