BEGIN:VCALENDAR
VERSION:2.0
PRODID:icalendar-ruby
CALSCALE:GREGORIAN
BEGIN:VEVENT
DTSTAMP:20260421T153532Z
UID:2b8d6372-2782-4491-abde-585860787253
DTSTART:20230717T090000Z
DTEND:20230722T000000Z
SUMMARY:17-21 July 2023\, International Conference on X-Ray Lasers - ICXRL\
 , Shanghai\, China
URL;VALUE=URI:https://www.laserlab-europe.eu/events-1/conferences/conferenc
 e-calendar/17-21-july-2023-international-conference-on-x-ray-lasers-icxrl-
 shanghai-china
END:VEVENT
END:VCALENDAR
