BEGIN:VCALENDAR
VERSION:2.0
PRODID:icalendar-ruby
CALSCALE:GREGORIAN
BEGIN:VEVENT
DTSTAMP:20260421T203746Z
UID:707c5b62-287e-4738-a94c-59a7ed6d715e
DTSTART:20240617T090000Z
DTEND:20240621T000000Z
SUMMARY:17-20 June 2024\, Ultrafast X-ray Summer School (UXSS)\, Menlo Park
 \, USA
URL;VALUE=URI:https://www.laserlab-europe.eu/events/conferences/conference-
 calendar/17-20-june-2024-ultrafast-x-ray-summer-school-uxss-menlo-park-usa
END:VEVENT
END:VCALENDAR
