BEGIN:VCALENDAR
VERSION:2.0
PRODID:icalendar-ruby
CALSCALE:GREGORIAN
BEGIN:VEVENT
DTSTAMP:20260422T060818Z
UID:bc205789-2fac-4452-8601-2802dd0c5fd8
DTSTART:20231017T090000Z
DTEND:20231020T000000Z
SUMMARY:17-19 October 2023\, Optics & Photonics in Sweden\, Stockholm\, Swe
 den
URL;VALUE=URI:https://www.laserlab-europe.eu/events/conferences/conference-
 calendar/17-19-october-2023-optics-photonics-in-sweden-stockholm-sweden
END:VEVENT
END:VCALENDAR
