BEGIN:VCALENDAR
VERSION:2.0
PRODID:icalendar-ruby
CALSCALE:GREGORIAN
BEGIN:VEVENT
DTSTAMP:20260422T072856Z
UID:5c6c2dd3-e6e9-46d1-9ccc-005110f890ad
DTSTART:20231017T090000Z
DTEND:20231020T000000Z
DESCRIPTION:Training school funded by the European Geophysical Union on com
 putational methods for molecular cluster and atmospheric new particle form
 ation.
SUMMARY:17-19 October 2023\, EGU Training School on Multiscale Characterisa
 tion of Atmospheric New Particle Formation\, Lausanne\, Switzerland
URL;VALUE=URI:https://www.laserlab-europe.eu/events-1/conferences/conferenc
 e-calendar/17-19-october-2023-egu-training-school-on-multiscale-characteri
 sation-of-atmospheric-new-particle-formation-lausanne-switzerland
END:VEVENT
END:VCALENDAR
