BEGIN:VCALENDAR
VERSION:2.0
PRODID:icalendar-ruby
CALSCALE:GREGORIAN
BEGIN:VEVENT
DTSTAMP:20260422T033516Z
UID:ba7bcf88-179c-4607-9d6d-21bb24e7ab2d
DTSTART:20221017T090000Z
DTEND:20221020T000000Z
SUMMARY:17-19 October 2022\, International Conference on X-ray Lasers (ICXR
 L-20222)\, Shanghai\, China
URL;VALUE=URI:https://www.laserlab-europe.eu/events-1/conferences/conferenc
 e-calendar/17-19-october-2022-international-conference-on-x-ray-lasers-icx
 rl-20222-shanghai-china
END:VEVENT
END:VCALENDAR
