BEGIN:VCALENDAR
VERSION:2.0
PRODID:icalendar-ruby
CALSCALE:GREGORIAN
BEGIN:VEVENT
DTSTAMP:20260420T084202Z
UID:711076d6-7807-425a-8f81-4d44bb1ecf73
DTSTART:20240617T090000Z
DTEND:20240620T000000Z
SUMMARY:17-19 June 2024\, Science at FELs\, Paris\, France
URL;VALUE=URI:https://www.laserlab-europe.eu/events/conferences/conference-
 calendar/17-19-june-2024-science-at-fels-paris-france
END:VEVENT
END:VCALENDAR
