BEGIN:VCALENDAR
VERSION:2.0
PRODID:icalendar-ruby
CALSCALE:GREGORIAN
BEGIN:VEVENT
DTSTAMP:20260422T000305Z
UID:f67a622f-32ac-4f25-8ebf-37c80d26ede6
DTSTART:20250617T090000Z
DTEND:20250620T000000Z
SUMMARY:17-19 Jun 2025\, International Meeting on Atomic and Molecular Phys
 ics and Chemistry - IMAMPC\, Caen\, France
URL;VALUE=URI:https://www.laserlab-europe.eu/events/conferences/conference-
 calendar/17-19-jun-2025-international-meeting-on-atomic-and-molecular-phys
 ics-and-chemistry-imampc-caen-france
END:VEVENT
END:VCALENDAR
