BEGIN:VCALENDAR
VERSION:2.0
PRODID:icalendar-ruby
CALSCALE:GREGORIAN
BEGIN:VEVENT
DTSTAMP:20260420T055740Z
UID:64e4023b-51de-45e0-9ba3-cf7a2d6b0aa5
DTSTART:20240117T090000Z
DTEND:20240120T000000Z
SUMMARY:17-19 January 2024\, Multimessenger approch to the out-of-equilibri
 um dynamics in complex systems (MADYCS)\, Trieste\, Italy
URL;VALUE=URI:https://www.laserlab-europe.eu/events/conferences/conference-
 calendar/17-19-january-2024-multimessenger-approch-to-the-out-of-equilibri
 um-dynamics-in-complex-systems-madycs-trieste-italy
END:VEVENT
END:VCALENDAR
