BEGIN:VCALENDAR
VERSION:2.0
PRODID:icalendar-ruby
CALSCALE:GREGORIAN
BEGIN:VEVENT
DTSTAMP:20260422T072834Z
UID:464c4d92-2d2c-4f6f-8919-fafe296d96bb
DTSTART:20220817T090000Z
DTEND:20220820T000000Z
SUMMARY:17-19 August 2022\, Nordic Femtochemistry 2022\, Jyväskylä\, Finl
 and
URL;VALUE=URI:https://www.laserlab-europe.eu/events-1/conferences/conferenc
 e-calendar/17-19-august-2022-nordic-femtochemistry-2022-jyvaskyla-finland
END:VEVENT
END:VCALENDAR
