BEGIN:VCALENDAR
VERSION:2.0
PRODID:icalendar-ruby
CALSCALE:GREGORIAN
BEGIN:VEVENT
DTSTAMP:20260420T025010Z
UID:7112cfef-5e8a-45b2-906c-f2fcceab2c1e
DTSTART:20240417T090000Z
DTEND:20240420T000000Z
SUMMARY:17-19 April 2024\, International Laser Technology Congress - AKL'24
 \, Aachen\, Germany
URL;VALUE=URI:https://www.laserlab-europe.eu/events/conferences/conference-
 calendar/17-19-april-2024-international-laser-technology-congress-akl24-aa
 chen-germany
END:VEVENT
END:VCALENDAR
